BEGIN:VCALENDAR
VERSION:2.0
PRODID:-//wp-events-plugin.com//7.2.3.1//EN
TZID:Europe/Zurich
X-WR-TIMEZONE:Europe/Zurich
BEGIN:VEVENT
UID:7@bpmn.ch
DTSTART;TZID=Europe/Zurich;VALUE=DATE:20231109
DTEND;TZID=Europe/Zurich;VALUE=DATE:20231111
DTSTAMP:20230505T093308Z
URL:https://bpmn.ch/events/bpmn-methode-stil-expertkurs-2-tage-5/
SUMMARY:BPMN Methode & Stil [EXPERTkurs\, 2 Tage]
DESCRIPTION:Der Hauptzweck der BPMN Geschäftsprozessmodellierung  besteht 
 darin\, eine Prozesslogik mit Diagrammen zu veranschaulichen\, um Geschäf
 tsanforderungen zu dokumentieren oder in IT-Systemen abzubilden.
CATEGORIES:BPMN
LOCATION:ELCA Informatik AG\, Bern\, Seilerstrasse 4\, Bern\, 3011\, Schwei
 z
X-APPLE-STRUCTURED-LOCATION;VALUE=URI;X-ADDRESS=Seilerstrasse 4\, Bern\, 30
 11\, Schweiz;X-APPLE-RADIUS=100;X-TITLE=ELCA Informatik AG\, Bern:geo:0,0
END:VEVENT
BEGIN:VTIMEZONE
TZID:Europe/Zurich
X-LIC-LOCATION:Europe/Zurich
BEGIN:STANDARD
DTSTART:20231029T020000
TZOFFSETFROM:+0200
TZOFFSETTO:+0100
TZNAME:CET
END:STANDARD
END:VTIMEZONE
END:VCALENDAR