BEGIN:VCALENDAR
VERSION:2.0
PRODID:-//wp-events-plugin.com//7.2.3.1//EN
TZID:Europe/Zurich
X-WR-TIMEZONE:Europe/Zurich
BEGIN:VEVENT
UID:6@bpmn.ch
DTSTART;TZID=Europe/Zurich;VALUE=DATE:20231004
DTEND;TZID=Europe/Zurich;VALUE=DATE:20231006
DTSTAMP:20230501T091751Z
URL:https://bpmn.ch/events/bpmn-methode-stil-expertkurs-2-tage-4/
SUMMARY:BPMN Methode & Stil [EXPERTkurs\, 2 Tage]
DESCRIPTION:L'objectif principal du Business Process Model and Notation (BP
 MN) est de représenter la logique d'un processus par des diagrammes\, afi
 n de traduire les besoins de l'entreprise en des spécifications informati
 ques appropriées.
CATEGORIES:BPMN
LOCATION:ELCA Informatique SA\, Genève\, Av. Louis-Casaï 18\, Genève\, G
 E\, 1209\, Genève\, Schweiz
X-APPLE-STRUCTURED-LOCATION;VALUE=URI;X-ADDRESS=Av. Louis-Casaï 18\, Genè
 ve\, GE\, 1209\, Genève\, Schweiz;X-APPLE-RADIUS=100;X-TITLE=ELCA Informa
 tique SA\, Genève:geo:0,0
END:VEVENT
BEGIN:VTIMEZONE
TZID:Europe/Zurich
X-LIC-LOCATION:Europe/Zurich
BEGIN:DAYLIGHT
DTSTART:20230326T030000
TZOFFSETFROM:+0100
TZOFFSETTO:+0200
TZNAME:CEST
END:DAYLIGHT
END:VTIMEZONE
END:VCALENDAR